BEGIN:VCALENDAR
VERSION:2.0
PRODID:-//TOT: HOT OR NOT - ECPv6.15.20//NONSGML v1.0//EN
CALSCALE:GREGORIAN
METHOD:PUBLISH
X-ORIGINAL-URL:https://tothotornot.com
X-WR-CALDESC:Events for TOT: HOT OR NOT
REFRESH-INTERVAL;VALUE=DURATION:PT1H
X-Robots-Tag:noindex
X-PUBLISHED-TTL:PT1H
BEGIN:VTIMEZONE
TZID:Australia/Melbourne
BEGIN:STANDARD
TZOFFSETFROM:+1100
TZOFFSETTO:+1000
TZNAME:AEST
DTSTART:20250405T160000
END:STANDARD
BEGIN:DAYLIGHT
TZOFFSETFROM:+1000
TZOFFSETTO:+1100
TZNAME:AEDT
DTSTART:20251004T160000
END:DAYLIGHT
BEGIN:STANDARD
TZOFFSETFROM:+1100
TZOFFSETTO:+1000
TZNAME:AEST
DTSTART:20260404T160000
END:STANDARD
BEGIN:DAYLIGHT
TZOFFSETFROM:+1000
TZOFFSETTO:+1100
TZNAME:AEDT
DTSTART:20261003T160000
END:DAYLIGHT
BEGIN:STANDARD
TZOFFSETFROM:+1100
TZOFFSETTO:+1000
TZNAME:AEST
DTSTART:20270403T160000
END:STANDARD
BEGIN:DAYLIGHT
TZOFFSETFROM:+1000
TZOFFSETTO:+1100
TZNAME:AEDT
DTSTART:20271002T160000
END:DAYLIGHT
END:VTIMEZONE
BEGIN:VEVENT
DTSTART;TZID=Australia/Melbourne:20260417T110000
DTEND;TZID=Australia/Melbourne:20260417T130000
DTSTAMP:20260422T032322
CREATED:20260309T221604Z
LAST-MODIFIED:20260417T142550Z
UID:10053544-1776423600-1776430800@tothotornot.com
SUMMARY:Easter School Holidays at Victoria Hotel
DESCRIPTION:Free School Holiday Kids Activities at Victoria Hotel \nLooking for fun school holiday activities for the kids? Victoria Hotel is hosting two weeks of free family-friendly events to keep little ones entertained while parents relax. \nWeek 1 \n\nTues 7 April – Slime Workshop\nFri 10 April – K-Pop Demon Hunters | Rumi & Zoey Meet & Greet\n\nWeek 2 \n\nTues 14 April – Canvas Painting\nFri 17 April – Animals of Oz\n\nBring the family along for hands-on fun\, creative activities and exciting encounters from 11am – 1pm. Spots are free but limited\, so be sure to book ahead.
URL:https://tothotornot.com/event/easter-school-holidays-at-victoria-hotel/2026-04-17/
LOCATION:Victoria Hotel Yarraville\, 188 Hyde Street\, Yarraville\, VIC\, 3013\, Australia
ATTACH;FMTTYPE=image/png:https://tothotornot.com/wp-content/uploads/2026/03/VIC-EasterHolidays-EDM-2.png
ORGANIZER;CN="Victoria Hotel Yarraville":MAILTO:info@vichotelyarraville.com.au
END:VEVENT
BEGIN:VEVENT
DTSTART;TZID=Australia/Melbourne:20260403T110000
DTEND;TZID=Australia/Melbourne:20260406T230000
DTSTAMP:20260422T032322
CREATED:20260309T221845Z
LAST-MODIFIED:20260323T121025Z
UID:10054141-1775214000-1775516400@tothotornot.com
SUMMARY:Easter Weekend at Victoria Hotel Yarraville
DESCRIPTION:Head to Victoria Hotel Yarraville for four days of family-friendly fun — from petting zoo cuddles and face painting to a visit from the Easter Bunny\, plus live music and plenty happening in the beer garden. \nHere’s what’s on: \nGood Friday: Kids Craft Table + live acoustic music\nSaturday: Petting Zoo & face painting for the kids\nEaster Sunday: Special visit from the Easter Bunny\nEaster Monday: Footy live & loud \nLock in a table\, bring the crew and make the most of the long weekend at The Vic.
URL:https://tothotornot.com/event/easter-weekend-at-victoria-hotel-yarraville/
LOCATION:Victoria Hotel Yarraville\, 188 Hyde Street\, Yarraville\, VIC\, 3013\, Australia
CATEGORIES:Silver
ATTACH;FMTTYPE=image/jpeg:https://tothotornot.com/wp-content/uploads/2026/03/2025_09_07_The_Auburn_Hotel_003.jpg
ORGANIZER;CN="Victoria Hotel Yarraville":MAILTO:info@vichotelyarraville.com.au
END:VEVENT
BEGIN:VEVENT
DTSTART;TZID=Australia/Melbourne:20260403T110000
DTEND;TZID=Australia/Melbourne:20260403T140000
DTSTAMP:20260422T032322
CREATED:20260309T221742Z
LAST-MODIFIED:20260324T032250Z
UID:10054139-1775214000-1775224800@tothotornot.com
SUMMARY:Adopt a Puppy Workshop
DESCRIPTION:Start your School Holiday’s off right and celebrate Good Friday with a fun\, hands-on kids activity at the Adopt a Puppy Workshop at Victoria Hotel Yarraville. \nStarting from 11:00am\, kids can create and adopt their very own puppy and enjoy a series of creative activity stations: \n\nDecorate their puppy’s home\nCreate a personalised dog tag with beads and name label\nVisit our mini pet vet station for a “health check”\nTake home an official adoption certificate\n\n$25 per child — includes the full workshop experience plus a token for a kids meal. \nPerfect holiday fun for little animal lovers — bookings recommended as places are limited!
URL:https://tothotornot.com/event/adopt-a-puppy-workshop/
LOCATION:Victoria Hotel Yarraville\, 188 Hyde Street\, Yarraville\, VIC\, 3013\, Australia
ATTACH;FMTTYPE=image/jpeg:https://tothotornot.com/wp-content/uploads/2026/03/Victoria-Hotel-Yarraville-@zennieshia-95-1.jpg
ORGANIZER;CN="Victoria Hotel Yarraville":MAILTO:info@vichotelyarraville.com.au
END:VEVENT
END:VCALENDAR