BEGIN:VCALENDAR
VERSION:2.0
PRODID:-//TOT: HOT OR NOT - ECPv6.15.20//NONSGML v1.0//EN
CALSCALE:GREGORIAN
METHOD:PUBLISH
X-WR-CALNAME:TOT: HOT OR NOT
X-ORIGINAL-URL:https://tothotornot.com
X-WR-CALDESC:Events for TOT: HOT OR NOT
REFRESH-INTERVAL;VALUE=DURATION:PT1H
X-Robots-Tag:noindex
X-PUBLISHED-TTL:PT1H
BEGIN:VTIMEZONE
TZID:Australia/Melbourne
BEGIN:STANDARD
TZOFFSETFROM:+1100
TZOFFSETTO:+1000
TZNAME:AEST
DTSTART:20250405T160000
END:STANDARD
BEGIN:DAYLIGHT
TZOFFSETFROM:+1000
TZOFFSETTO:+1100
TZNAME:AEDT
DTSTART:20251004T160000
END:DAYLIGHT
BEGIN:STANDARD
TZOFFSETFROM:+1100
TZOFFSETTO:+1000
TZNAME:AEST
DTSTART:20260404T160000
END:STANDARD
BEGIN:DAYLIGHT
TZOFFSETFROM:+1000
TZOFFSETTO:+1100
TZNAME:AEDT
DTSTART:20261003T160000
END:DAYLIGHT
BEGIN:STANDARD
TZOFFSETFROM:+1100
TZOFFSETTO:+1000
TZNAME:AEST
DTSTART:20270403T160000
END:STANDARD
BEGIN:DAYLIGHT
TZOFFSETFROM:+1000
TZOFFSETTO:+1100
TZNAME:AEDT
DTSTART:20271002T160000
END:DAYLIGHT
END:VTIMEZONE
BEGIN:VEVENT
DTSTART;TZID=Australia/Melbourne:20260602T160000
DTEND;TZID=Australia/Melbourne:20260602T170000
DTSTAMP:20260426T094217
CREATED:20260223T011828Z
LAST-MODIFIED:20260324T020606Z
UID:10050721-1780416000-1780419600@tothotornot.com
SUMMARY:Art Lab
DESCRIPTION:Art Lab is a free\, hands-on STEAM-based arts program held in the Truganina Community Centre’s Library Lounge\, where young people aged 9–15 can get creative\, experiment with materials\, and explore the world through art and science. \nArt Lab can get messy\, especially with paint\, so please wear old clothing you don’t mind getting dirty! \nChildren under 12 years of age must be accompanied by an adult when using the library and attending library programs. \nArt Lab is run on various dates across the school term – please visit the website for more information.
URL:https://tothotornot.com/event/art-lab/2026-06-02/
LOCATION:Truganina Library Lounge\, Truganina Community Centre\, 1 Everton Road\, Truganina\, Victoria\, 3029\, Australia
ATTACH;FMTTYPE=image/jpeg:https://tothotornot.com/wp-content/uploads/2026/02/Art-Lab-Truganina.jpg
END:VEVENT
END:VCALENDAR