BEGIN:VCALENDAR
VERSION:2.0
PRODID:-//TOT: HOT OR NOT - ECPv6.15.20//NONSGML v1.0//EN
CALSCALE:GREGORIAN
METHOD:PUBLISH
X-ORIGINAL-URL:https://tothotornot.com
X-WR-CALDESC:Events for TOT: HOT OR NOT
REFRESH-INTERVAL;VALUE=DURATION:PT1H
X-Robots-Tag:noindex
X-PUBLISHED-TTL:PT1H
BEGIN:VTIMEZONE
TZID:Australia/Melbourne
BEGIN:STANDARD
TZOFFSETFROM:+1100
TZOFFSETTO:+1000
TZNAME:AEST
DTSTART:20250405T160000
END:STANDARD
BEGIN:DAYLIGHT
TZOFFSETFROM:+1000
TZOFFSETTO:+1100
TZNAME:AEDT
DTSTART:20251004T160000
END:DAYLIGHT
BEGIN:STANDARD
TZOFFSETFROM:+1100
TZOFFSETTO:+1000
TZNAME:AEST
DTSTART:20260404T160000
END:STANDARD
BEGIN:DAYLIGHT
TZOFFSETFROM:+1000
TZOFFSETTO:+1100
TZNAME:AEDT
DTSTART:20261003T160000
END:DAYLIGHT
BEGIN:STANDARD
TZOFFSETFROM:+1100
TZOFFSETTO:+1000
TZNAME:AEST
DTSTART:20270403T160000
END:STANDARD
BEGIN:DAYLIGHT
TZOFFSETFROM:+1000
TZOFFSETTO:+1100
TZNAME:AEDT
DTSTART:20271002T160000
END:DAYLIGHT
END:VTIMEZONE
BEGIN:VEVENT
DTSTART;TZID=Australia/Melbourne:20260402T180000
DTEND;TZID=Australia/Melbourne:20260402T210000
DTSTAMP:20260424T080620
CREATED:20260330T063627Z
LAST-MODIFIED:20260330T063627Z
UID:10055473-1775152800-1775163600@tothotornot.com
SUMMARY:Enlighten Easter Festival
DESCRIPTION:Enlighten Easter transforms the Peace Park at the Great Stupa of Universal Compassion into a stunning after-dark lightscape\, with light displays throughout the garden and projections on the largest Buddhist stupa outside Asia. \nJoin roaming performers\, live music\, family fun and delicious food\, with a possible visit from the Easter Bunny. The Great Stupa temple will also be open on the night. \nTickets are $18 for adults\, $8 for children aged 3 to 16\, $45 for a family of two adults and two children\, and free for children under 3.
URL:https://tothotornot.com/event/enlighten-easter-festival/
LOCATION:The Great Stupa of Universal Compassion\, 25 Sandhurst Town Road\, Myers Flat\, Victoria\, 3556\, Australia
ATTACH;FMTTYPE=image/jpeg:https://tothotornot.com/wp-content/uploads/2026/03/Enlighten-Easter.jpg
END:VEVENT
END:VCALENDAR