BEGIN:VCALENDAR
VERSION:2.0
PRODID:-//TOT: HOT OR NOT - ECPv6.15.20//NONSGML v1.0//EN
CALSCALE:GREGORIAN
METHOD:PUBLISH
X-ORIGINAL-URL:https://tothotornot.com
X-WR-CALDESC:Events for TOT: HOT OR NOT
REFRESH-INTERVAL;VALUE=DURATION:PT1H
X-Robots-Tag:noindex
X-PUBLISHED-TTL:PT1H
BEGIN:VTIMEZONE
TZID:Australia/Melbourne
BEGIN:STANDARD
TZOFFSETFROM:+1100
TZOFFSETTO:+1000
TZNAME:AEST
DTSTART:20250405T160000
END:STANDARD
BEGIN:DAYLIGHT
TZOFFSETFROM:+1000
TZOFFSETTO:+1100
TZNAME:AEDT
DTSTART:20251004T160000
END:DAYLIGHT
BEGIN:STANDARD
TZOFFSETFROM:+1100
TZOFFSETTO:+1000
TZNAME:AEST
DTSTART:20260404T160000
END:STANDARD
BEGIN:DAYLIGHT
TZOFFSETFROM:+1000
TZOFFSETTO:+1100
TZNAME:AEDT
DTSTART:20261003T160000
END:DAYLIGHT
BEGIN:STANDARD
TZOFFSETFROM:+1100
TZOFFSETTO:+1000
TZNAME:AEST
DTSTART:20270403T160000
END:STANDARD
BEGIN:DAYLIGHT
TZOFFSETFROM:+1000
TZOFFSETTO:+1100
TZNAME:AEDT
DTSTART:20271002T160000
END:DAYLIGHT
END:VTIMEZONE
BEGIN:VEVENT
DTSTART;TZID=Australia/Melbourne:20260329T150000
DTEND;TZID=Australia/Melbourne:20260329T170000
DTSTAMP:20260425T130151
CREATED:20260316T131849Z
LAST-MODIFIED:20260323T041554Z
UID:10055030-1774796400-1774803600@tothotornot.com
SUMMARY:Create a Kite Craft Activity
DESCRIPTION:Inspired by the children’s picture book Under the Love Umbrella\, this free drop-in craft activity at the Pauline Gandel Children’s Quarter invites children aged 5 to 12 to use colour and collage to decorate their own kite and add it to the Library’s mural wall. \nSessions run on 21\, 22\, 28 and 29 March from 3:00pm to 5:00pm. \nNo bookings are required. Simply drop in anytime during the session and get creative with your family.
URL:https://tothotornot.com/event/create-a-kite-craft-activity/2026-03-29/
LOCATION:Pauline Gandel Children’s Quarter The Quad\, 328 Swanston Street\, State Library\, Melbourne\, Victoria\, 3000\, Australia
ATTACH;FMTTYPE=image/png:https://tothotornot.com/wp-content/uploads/2026/03/Create-a-Kite-Craft-Activity.png
END:VEVENT
END:VCALENDAR