BEGIN:VCALENDAR
VERSION:2.0
PRODID:-//TOT: HOT OR NOT - ECPv6.15.20//NONSGML v1.0//EN
CALSCALE:GREGORIAN
METHOD:PUBLISH
X-ORIGINAL-URL:https://tothotornot.com
X-WR-CALDESC:Events for TOT: HOT OR NOT
REFRESH-INTERVAL;VALUE=DURATION:PT1H
X-Robots-Tag:noindex
X-PUBLISHED-TTL:PT1H
BEGIN:VTIMEZONE
TZID:Australia/Melbourne
BEGIN:STANDARD
TZOFFSETFROM:+1100
TZOFFSETTO:+1000
TZNAME:AEST
DTSTART:20250405T160000
END:STANDARD
BEGIN:DAYLIGHT
TZOFFSETFROM:+1000
TZOFFSETTO:+1100
TZNAME:AEDT
DTSTART:20251004T160000
END:DAYLIGHT
BEGIN:STANDARD
TZOFFSETFROM:+1100
TZOFFSETTO:+1000
TZNAME:AEST
DTSTART:20260404T160000
END:STANDARD
BEGIN:DAYLIGHT
TZOFFSETFROM:+1000
TZOFFSETTO:+1100
TZNAME:AEDT
DTSTART:20261003T160000
END:DAYLIGHT
BEGIN:STANDARD
TZOFFSETFROM:+1100
TZOFFSETTO:+1000
TZNAME:AEST
DTSTART:20270403T160000
END:STANDARD
BEGIN:DAYLIGHT
TZOFFSETFROM:+1000
TZOFFSETTO:+1100
TZNAME:AEDT
DTSTART:20271002T160000
END:DAYLIGHT
END:VTIMEZONE
BEGIN:VEVENT
DTSTART;TZID=Australia/Melbourne:20260418T143000
DTEND;TZID=Australia/Melbourne:20260418T143000
DTSTAMP:20260420T053743
CREATED:20260309T212357Z
LAST-MODIFIED:20260309T212357Z
UID:10051184-1776522600-1776522600@tothotornot.com
SUMMARY:Aboriginal Comedy Allstars for Kids
DESCRIPTION:Our premier First Nations comedians present laughs\, singalongs\, dance and an education for all\, no matter where you’re from and who’s your mob. \nStarring comedians Andy Saunders\, Elaine Crombie\, Janty Blair\, Jay Wymarra\, Kevin Kropinyeri and Sean Choolburra. \nWith sell-out seasons and five-star reviews in the UK\, Adelaide\, Melbourne\, Brisbane and beyond\, the Allstars bring huge belly laughs from the heart of the wide brown land. \nSuitable for ages 6-12. 
URL:https://tothotornot.com/event/aboriginal-comedy-allstars-for-kids/
LOCATION:Melbourne Musuem – Theatre\, Melbourne Museum\, Nicholson Street\, Carlton\, Victoria\, 3053\, Australia
ATTACH;FMTTYPE=image/webp:https://tothotornot.com/wp-content/uploads/2026/02/Aboriginal-Comedy-Allstars-for-Kids.webp
ORGANIZER;CN="International Comedy Festival":MAILTO:info@comedyfestival.com.au
END:VEVENT
BEGIN:VEVENT
DTSTART;TZID=Australia/Melbourne:20260404T130000
DTEND;TZID=Australia/Melbourne:20260419T143000
DTSTAMP:20260420T053743
CREATED:20260301T223809Z
LAST-MODIFIED:20260301T223809Z
UID:10051220-1775307600-1776609000@tothotornot.com
SUMMARY:Make You LOL - Again
DESCRIPTION:Festival favourites The Listies are back by POOP-ular demand\, and they’re bringing the same silly chaos families love. If your kids love big laughs and ridiculous fun\, this one is an easy pick. \nGratuitous\, ridiculous\, and always hilarious\, this is family comedy at its best. Expect a fast\, funny show that keeps both kids and grown-ups laughing. \nPlease visit the website for more information on show dates and times.
URL:https://tothotornot.com/event/make-you-lol-again/
LOCATION:Melbourne Musuem – Theatre\, Melbourne Museum\, Nicholson Street\, Carlton\, Victoria\, 3053\, Australia
ATTACH;FMTTYPE=image/webp:https://tothotornot.com/wp-content/uploads/2026/02/Make-You-LOL-Again.webp
ORGANIZER;CN="International Comedy Festival":MAILTO:info@comedyfestival.com.au
END:VEVENT
BEGIN:VEVENT
DTSTART;TZID=Australia/Melbourne:20260404T113000
DTEND;TZID=Australia/Melbourne:20260419T143000
DTSTAMP:20260420T053743
CREATED:20260309T211641Z
LAST-MODIFIED:20260309T211641Z
UID:10051195-1775302200-1776609000@tothotornot.com
SUMMARY:Comedy Club for Kids
DESCRIPTION:Comedy Club for Kids is a school holiday treat for children ages six and up\, with a big showcase of kid-friendly performers. \nHandpicked by Melbourne International Comedy Festival\, expect side-splitting stand-up\, jaw-dropping circus acts\, wacky sketches and musical comedy from the first joke to the final bow. \nIt’s a safe\, welcoming space where silliness is celebrated. No boring stuff. Just pure\, awesome fun! \nSuitable for ages 6-12. Please visit the website for more information on show dates and times.
URL:https://tothotornot.com/event/comedy-club-for-kids/
LOCATION:Melbourne Musuem – Theatre\, Melbourne Museum\, Nicholson Street\, Carlton\, Victoria\, 3053\, Australia
ATTACH;FMTTYPE=image/webp:https://tothotornot.com/wp-content/uploads/2026/02/Comedy-Club-for-Kids.webp
ORGANIZER;CN="International Comedy Festival":MAILTO:info@comedyfestival.com.au
END:VEVENT
BEGIN:VEVENT
DTSTART;TZID=Australia/Melbourne:20260404T100000
DTEND;TZID=Australia/Melbourne:20260419T130000
DTSTAMP:20260420T053743
CREATED:20260309T211954Z
LAST-MODIFIED:20260309T211954Z
UID:10051190-1775296800-1776603600@tothotornot.com
SUMMARY:Bubble Show in Space
DESCRIPTION:Have you ever been in a room with a million bubbles? Embark on a soap-tastic adventure to the intergalactic wonder that is bubbles in space! \nSee flying bubble rockets that launches 10 metres into the air\, clear bubbles filled with smoke\, shadow bubble puppetry\, fire bubbles and a bubble fire tornado\, plus square bubbles\, giant bubble screens\, children inside bubbles\, and bubbles so big that several people could fit inside! \nIt finishes in a million bubble party that fills the room. \nSuitable for audiences under 5. Please visit the website for more information on show dates and times.
URL:https://tothotornot.com/event/bubble-show-in-space/
LOCATION:Melbourne Musuem – Theatre\, Melbourne Museum\, Nicholson Street\, Carlton\, Victoria\, 3053\, Australia
ATTACH;FMTTYPE=image/webp:https://tothotornot.com/wp-content/uploads/2026/02/Bubble-Show-in-Space.webp
ORGANIZER;CN="International Comedy Festival":MAILTO:info@comedyfestival.com.au
END:VEVENT
END:VCALENDAR