BEGIN:VCALENDAR
VERSION:2.0
PRODID:-//TOT: HOT OR NOT - ECPv6.15.20//NONSGML v1.0//EN
CALSCALE:GREGORIAN
METHOD:PUBLISH
X-ORIGINAL-URL:https://tothotornot.com
X-WR-CALDESC:Events for TOT: HOT OR NOT
REFRESH-INTERVAL;VALUE=DURATION:PT1H
X-Robots-Tag:noindex
X-PUBLISHED-TTL:PT1H
BEGIN:VTIMEZONE
TZID:Australia/Melbourne
BEGIN:STANDARD
TZOFFSETFROM:+1100
TZOFFSETTO:+1000
TZNAME:AEST
DTSTART:20250405T160000
END:STANDARD
BEGIN:DAYLIGHT
TZOFFSETFROM:+1000
TZOFFSETTO:+1100
TZNAME:AEDT
DTSTART:20251004T160000
END:DAYLIGHT
BEGIN:STANDARD
TZOFFSETFROM:+1100
TZOFFSETTO:+1000
TZNAME:AEST
DTSTART:20260404T160000
END:STANDARD
BEGIN:DAYLIGHT
TZOFFSETFROM:+1000
TZOFFSETTO:+1100
TZNAME:AEDT
DTSTART:20261003T160000
END:DAYLIGHT
BEGIN:STANDARD
TZOFFSETFROM:+1100
TZOFFSETTO:+1000
TZNAME:AEST
DTSTART:20270403T160000
END:STANDARD
BEGIN:DAYLIGHT
TZOFFSETFROM:+1000
TZOFFSETTO:+1100
TZNAME:AEDT
DTSTART:20271002T160000
END:DAYLIGHT
END:VTIMEZONE
BEGIN:VEVENT
DTSTART;TZID=Australia/Melbourne:20260328T133000
DTEND;TZID=Australia/Melbourne:20260328T143000
DTSTAMP:20260425T130136
CREATED:20260301T222946Z
LAST-MODIFIED:20260301T222946Z
UID:10051234-1774704600-1774708200@tothotornot.com
SUMMARY:Family Day: Curator's Tour
DESCRIPTION:Spend an art-filled afternoon at Linden’s upcoming Family Day with a family-friendly guided tour led by Director\, Dr Vincent Alessi. \nYou’ll explore Time Moves Through These Walls: 40 Years of Linden New Art and Maree Clarke’s façade commission\, Long Journey Home: We Are Still Here. \nExpect an easy pace\, plenty to discover\, and a welcoming Q&A throughout. Book your spots below\, share this with your friends\, or simply drop in on the day!
URL:https://tothotornot.com/event/family-day-curators-tour/
LOCATION:Linden New Art\, 26 Acland Street\, St Kilda\, Victoria\, 3182\, Australia
ATTACH;FMTTYPE=image/jpeg:https://tothotornot.com/wp-content/uploads/2026/02/Family-Day-Curators-Tour.jpg
END:VEVENT
BEGIN:VEVENT
DTSTART;TZID=Australia/Melbourne:20260303T110000
DTEND;TZID=Australia/Melbourne:20260303T123000
DTSTAMP:20260425T130136
CREATED:20260301T223153Z
LAST-MODIFIED:20260301T223153Z
UID:10051232-1772535600-1772541000@tothotornot.com
SUMMARY:A Little Further Reading
DESCRIPTION:A Little Further Reading is a gentle storytime at Linden New Art for young children and their caregivers. \nYou’ll hear a small collection of children’s books that echo the ideas and moods of the exhibition\, making it an easy\, calm way to dip into contemporary art. \nIt’s a quiet\, playful space for listening and imagination\, and a lovely chance for families to connect. Suitable for ages 0-6 accompanied by their parent/guardian/carer.
URL:https://tothotornot.com/event/a-little-further-reading/
LOCATION:Linden New Art\, 26 Acland Street\, St Kilda\, Victoria\, 3182\, Australia
ATTACH;FMTTYPE=image/jpeg:https://tothotornot.com/wp-content/uploads/2026/02/A-Little-Further-Reading.jpg
END:VEVENT
END:VCALENDAR