BEGIN:VCALENDAR
VERSION:2.0
PRODID:-//TOT: HOT OR NOT - ECPv6.15.20//NONSGML v1.0//EN
CALSCALE:GREGORIAN
METHOD:PUBLISH
X-WR-CALNAME:TOT: HOT OR NOT
X-ORIGINAL-URL:https://tothotornot.com
X-WR-CALDESC:Events for TOT: HOT OR NOT
REFRESH-INTERVAL;VALUE=DURATION:PT1H
X-Robots-Tag:noindex
X-PUBLISHED-TTL:PT1H
BEGIN:VTIMEZONE
TZID:Australia/Melbourne
BEGIN:STANDARD
TZOFFSETFROM:+1100
TZOFFSETTO:+1000
TZNAME:AEST
DTSTART:20250405T160000
END:STANDARD
BEGIN:DAYLIGHT
TZOFFSETFROM:+1000
TZOFFSETTO:+1100
TZNAME:AEDT
DTSTART:20251004T160000
END:DAYLIGHT
BEGIN:STANDARD
TZOFFSETFROM:+1100
TZOFFSETTO:+1000
TZNAME:AEST
DTSTART:20260404T160000
END:STANDARD
BEGIN:DAYLIGHT
TZOFFSETFROM:+1000
TZOFFSETTO:+1100
TZNAME:AEDT
DTSTART:20261003T160000
END:DAYLIGHT
BEGIN:STANDARD
TZOFFSETFROM:+1100
TZOFFSETTO:+1000
TZNAME:AEST
DTSTART:20270403T160000
END:STANDARD
BEGIN:DAYLIGHT
TZOFFSETFROM:+1000
TZOFFSETTO:+1100
TZNAME:AEDT
DTSTART:20271002T160000
END:DAYLIGHT
END:VTIMEZONE
BEGIN:VEVENT
DTSTART;TZID=Australia/Melbourne:20260404T090000
DTEND;TZID=Australia/Melbourne:20260404T170000
DTSTAMP:20260424T095243
CREATED:20260330T063545Z
LAST-MODIFIED:20260330T063545Z
UID:10055474-1775293200-1775322000@tothotornot.com
SUMMARY:Cottage by the Sea Easter Festival 2026
DESCRIPTION:The Cottage by the Sea Easter Festival at Bellarine Estate Winery is a fun-filled day out for the whole family\, featuring an Easter Egg Hunt\, Golden Egg raffle hunt\, live music from The Mik Maks\, face painting\, a jumping castle\, animal farm\, food vendors and market stalls. \nThis year’s event supports Cottage by the Sea\, a charity dedicated to providing respite and support for children and families across Victoria. \nKids must be accompanied by an adult with an adult ticket. \nExact times and ticket prices vary – please visit the website for more information.
URL:https://tothotornot.com/event/cottage-by-the-sea-easter-festival-2026/
LOCATION:Bellarine Estate Winery\, 2270 Portarlington Road\, Bellarine\, Victoria\, 3223
ATTACH;FMTTYPE=image/webp:https://tothotornot.com/wp-content/uploads/2026/03/Cottage-by-the-Sea-Easter-festival-2026.webp
END:VEVENT
END:VCALENDAR