BEGIN:VCALENDAR
VERSION:2.0
PRODID:-//TOT: HOT OR NOT - ECPv6.15.20//NONSGML v1.0//EN
CALSCALE:GREGORIAN
METHOD:PUBLISH
X-WR-CALNAME:TOT: HOT OR NOT
X-ORIGINAL-URL:https://tothotornot.com
X-WR-CALDESC:Events for TOT: HOT OR NOT
REFRESH-INTERVAL;VALUE=DURATION:PT1H
X-Robots-Tag:noindex
X-PUBLISHED-TTL:PT1H
BEGIN:VTIMEZONE
TZID:Australia/Melbourne
BEGIN:STANDARD
TZOFFSETFROM:+1100
TZOFFSETTO:+1000
TZNAME:AEST
DTSTART:20250405T160000
END:STANDARD
BEGIN:DAYLIGHT
TZOFFSETFROM:+1000
TZOFFSETTO:+1100
TZNAME:AEDT
DTSTART:20251004T160000
END:DAYLIGHT
BEGIN:STANDARD
TZOFFSETFROM:+1100
TZOFFSETTO:+1000
TZNAME:AEST
DTSTART:20260404T160000
END:STANDARD
BEGIN:DAYLIGHT
TZOFFSETFROM:+1000
TZOFFSETTO:+1100
TZNAME:AEDT
DTSTART:20261003T160000
END:DAYLIGHT
BEGIN:STANDARD
TZOFFSETFROM:+1100
TZOFFSETTO:+1000
TZNAME:AEST
DTSTART:20270403T160000
END:STANDARD
BEGIN:DAYLIGHT
TZOFFSETFROM:+1000
TZOFFSETTO:+1100
TZNAME:AEDT
DTSTART:20271002T160000
END:DAYLIGHT
END:VTIMEZONE
BEGIN:VEVENT
DTSTART;TZID=Australia/Melbourne:20260404T143000
DTEND;TZID=Australia/Melbourne:20260404T163000
DTSTAMP:20260421T233152
CREATED:20260301T222825Z
LAST-MODIFIED:20260301T222825Z
UID:10051237-1775313000-1775320200@tothotornot.com
SUMMARY:Cosmic Eggstravaganza: A Family Easter Event
DESCRIPTION:Hop into Easter fun at Cosmic Eggstravaganza\, with an Easter Egg Hunt and an Easter-Themed Astronomy talk for children\, plus more on the day. \nGates open 10 minutes prior to event start. Entry is via the carpark entrance on Magpie St\, with the pedestrian gate on Cobden St closed\, and check in at the Oddie Room where a site map and timetable will be provided. \nBring a hat and walking-suitable shoes\, and please note children must be supervised by an adult.
URL:https://tothotornot.com/event/cosmic-eggstravaganza-a-family-easter-event/
LOCATION:Ballarat Observatory\, 439 Cobden St\, Mount Pleasant\, Victoria\, 3350\, Australia
ATTACH;FMTTYPE=image/jpeg:https://tothotornot.com/wp-content/uploads/2024/03/Easter_Fest_Melbourne-1-2048x1365-1.jpeg
END:VEVENT
END:VCALENDAR