BEGIN:VCALENDAR
VERSION:2.0
PRODID:-//TOT: HOT OR NOT - ECPv6.15.20//NONSGML v1.0//EN
CALSCALE:GREGORIAN
METHOD:PUBLISH
X-ORIGINAL-URL:https://tothotornot.com
X-WR-CALDESC:Events for TOT: HOT OR NOT
REFRESH-INTERVAL;VALUE=DURATION:PT1H
X-Robots-Tag:noindex
X-PUBLISHED-TTL:PT1H
BEGIN:VTIMEZONE
TZID:Australia/Melbourne
BEGIN:STANDARD
TZOFFSETFROM:+1100
TZOFFSETTO:+1000
TZNAME:AEST
DTSTART:20250405T160000
END:STANDARD
BEGIN:DAYLIGHT
TZOFFSETFROM:+1000
TZOFFSETTO:+1100
TZNAME:AEDT
DTSTART:20251004T160000
END:DAYLIGHT
BEGIN:STANDARD
TZOFFSETFROM:+1100
TZOFFSETTO:+1000
TZNAME:AEST
DTSTART:20260404T160000
END:STANDARD
BEGIN:DAYLIGHT
TZOFFSETFROM:+1000
TZOFFSETTO:+1100
TZNAME:AEDT
DTSTART:20261003T160000
END:DAYLIGHT
BEGIN:STANDARD
TZOFFSETFROM:+1100
TZOFFSETTO:+1000
TZNAME:AEST
DTSTART:20270403T160000
END:STANDARD
BEGIN:DAYLIGHT
TZOFFSETFROM:+1000
TZOFFSETTO:+1100
TZNAME:AEDT
DTSTART:20271002T160000
END:DAYLIGHT
END:VTIMEZONE
BEGIN:VEVENT
DTSTART;TZID=Australia/Melbourne:20260405T100000
DTEND;TZID=Australia/Melbourne:20260405T170000
DTSTAMP:20260425T054408
CREATED:20260330T063424Z
LAST-MODIFIED:20260330T063424Z
UID:10055476-1775383200-1775408400@tothotornot.com
SUMMARY:Unity Fest Melbourne – Eid & Easter Mela 2026
DESCRIPTION:Unity Fest Melbourne brings Eid and Easter together for a free day of music\, food\, culture and family fun at Anzac Park\, Craigieburn. \nEnjoy live performances from Punjabi artist Malkoo and comedian Sajjad Jani\, alongside food stalls\, desi cuisine\, kids activities and rides\, and community and cultural stalls. \nFree entry for all. The event starts at 10:00am – for end time and further details\, please visit the website.
URL:https://tothotornot.com/event/unity-fest-melbourne-eid-easter-mela-2026/
LOCATION:Anzac Park\, Corner Aitken Blvd and\, Central Park Ave\, Craigieburn\, Victoria\, 3064\, Australia
ATTACH;FMTTYPE=image/jpeg:https://tothotornot.com/wp-content/uploads/2026/03/Unity-Fest.jpg
END:VEVENT
END:VCALENDAR