BEGIN:VCALENDAR
VERSION:2.0
PRODID:-//TOT: HOT OR NOT - ECPv6.15.20//NONSGML v1.0//EN
CALSCALE:GREGORIAN
METHOD:PUBLISH
X-WR-CALNAME:TOT: HOT OR NOT
X-ORIGINAL-URL:https://tothotornot.com
X-WR-CALDESC:Events for TOT: HOT OR NOT
REFRESH-INTERVAL;VALUE=DURATION:PT1H
X-Robots-Tag:noindex
X-PUBLISHED-TTL:PT1H
BEGIN:VTIMEZONE
TZID:Australia/Melbourne
BEGIN:STANDARD
TZOFFSETFROM:+1100
TZOFFSETTO:+1000
TZNAME:AEST
DTSTART:20250405T160000
END:STANDARD
BEGIN:DAYLIGHT
TZOFFSETFROM:+1000
TZOFFSETTO:+1100
TZNAME:AEDT
DTSTART:20251004T160000
END:DAYLIGHT
BEGIN:STANDARD
TZOFFSETFROM:+1100
TZOFFSETTO:+1000
TZNAME:AEST
DTSTART:20260404T160000
END:STANDARD
BEGIN:DAYLIGHT
TZOFFSETFROM:+1000
TZOFFSETTO:+1100
TZNAME:AEDT
DTSTART:20261003T160000
END:DAYLIGHT
BEGIN:STANDARD
TZOFFSETFROM:+1100
TZOFFSETTO:+1000
TZNAME:AEST
DTSTART:20270403T160000
END:STANDARD
BEGIN:DAYLIGHT
TZOFFSETFROM:+1000
TZOFFSETTO:+1100
TZNAME:AEDT
DTSTART:20271002T160000
END:DAYLIGHT
END:VTIMEZONE
BEGIN:VEVENT
DTSTART;TZID=Australia/Melbourne:20260405T093000
DTEND;TZID=Australia/Melbourne:20260405T110000
DTSTAMP:20260425T070434
CREATED:20260330T063509Z
LAST-MODIFIED:20260330T063509Z
UID:10055475-1775381400-1775386800@tothotornot.com
SUMMARY:Easter Egg Hunt at Tokar Estate
DESCRIPTION:Hop into Easter at Tokar Estate in the Yarra Valley for a family Easter Egg Hunt running from 9:30am to 11:00am. \nUse a special map and clues to explore the estate\, collect five hidden tokens and trade them in for real chocolate eggs. A petting zoo runs alongside the hunt for little animal lovers. \nTickets are $50 per family (up to 3 children\, including egg hunt\, basket and petting zoo entry)\, with extra children at $15 each. \nStay on for lunch at the restaurant from 11:30am or enjoy a casual wine tasting and platter at the cellar door until 5:00pm.
URL:https://tothotornot.com/event/easter-egg-hunt-at-tokar-estate/
LOCATION:Tokar Estate\, 6 Maddens Ln\, Coldstream\, Victoria\, 3770\, Australia
ATTACH;FMTTYPE=image/webp:https://tothotornot.com/wp-content/uploads/2026/03/Easter-Egg-Hunt-at-Tokar-Estate.webp
END:VEVENT
END:VCALENDAR