BEGIN:VCALENDAR
VERSION:2.0
PRODID:-//TOT: HOT OR NOT - ECPv6.15.20//NONSGML v1.0//EN
CALSCALE:GREGORIAN
METHOD:PUBLISH
X-WR-CALNAME:TOT: HOT OR NOT
X-ORIGINAL-URL:https://tothotornot.com
X-WR-CALDESC:Events for TOT: HOT OR NOT
REFRESH-INTERVAL;VALUE=DURATION:PT1H
X-Robots-Tag:noindex
X-PUBLISHED-TTL:PT1H
BEGIN:VTIMEZONE
TZID:Australia/Melbourne
BEGIN:STANDARD
TZOFFSETFROM:+1100
TZOFFSETTO:+1000
TZNAME:AEST
DTSTART:20240406T160000
END:STANDARD
BEGIN:DAYLIGHT
TZOFFSETFROM:+1000
TZOFFSETTO:+1100
TZNAME:AEDT
DTSTART:20241005T160000
END:DAYLIGHT
BEGIN:STANDARD
TZOFFSETFROM:+1100
TZOFFSETTO:+1000
TZNAME:AEST
DTSTART:20250405T160000
END:STANDARD
BEGIN:DAYLIGHT
TZOFFSETFROM:+1000
TZOFFSETTO:+1100
TZNAME:AEDT
DTSTART:20251004T160000
END:DAYLIGHT
BEGIN:STANDARD
TZOFFSETFROM:+1100
TZOFFSETTO:+1000
TZNAME:AEST
DTSTART:20260404T160000
END:STANDARD
BEGIN:DAYLIGHT
TZOFFSETFROM:+1000
TZOFFSETTO:+1100
TZNAME:AEDT
DTSTART:20261003T160000
END:DAYLIGHT
BEGIN:STANDARD
TZOFFSETFROM:+1100
TZOFFSETTO:+1000
TZNAME:AEST
DTSTART:20270403T160000
END:STANDARD
BEGIN:DAYLIGHT
TZOFFSETFROM:+1000
TZOFFSETTO:+1100
TZNAME:AEDT
DTSTART:20271002T160000
END:DAYLIGHT
END:VTIMEZONE
BEGIN:VEVENT
DTSTART;TZID=Australia/Melbourne:20251218T090000
DTEND;TZID=Australia/Melbourne:20260127T180000
DTSTAMP:20260421T054804
CREATED:20251223T150033Z
LAST-MODIFIED:20260105T233544Z
UID:10048421-1766048400-1769536800@tothotornot.com
SUMMARY:Dive into an Underworld Adventure with SpongeBob at SEA LIFE Melbourne Aquarium!
DESCRIPTION:Dive into an Underworld Adventure with SpongeBob at SEA LIFE Melbourne Aquarium! \nThis summer\, join SpongeBob\, Patrick\, and the gang on an epic quest beneath the waves as they journey to the ocean’s mysterious depths to face the ghostly Flying Dutchman! \nInspired by the soon-to-be-released The SpongeBob SquarePants Movie: The Search for SquarePants\, In Cinemas Boxing Day\, take on seven swashbuckling challenges\, from solving riddles and spotting jellyfish to discovering your very own pirate name\, all in pursuit of your Swashbuckler Certificate! \nYour pirate journey begins at SpongeBob’s Puzzle Port\, where you’ll need to solve a riddle to reveal SpongeBob’s best buddy. Then\, join Squidward’s Jellyfish Jam and count the jellyfish drifting by in their glowing underwater world. \nNext\, Walk the Plank with Mr. Krabs… if you dare! Prove your courage and show you’ve got what it takes to be part of a true pirate crew. Strike a pose (or three!) with Patrick\, then set out to spot sneaky Plankton\, who’s stowed away somewhere among the SEA LIFE creatures. \nKeep your eyes peeled for Gary the Snail\, hiding somewhere in the depths\, and finally\, discover your pirate name and collect your official Swashbuckler Certificate from the Flying Dutchman’s treasure chest! \nWith pirate-themed fun woven through SEA LIFE’s real marine environments — plus the chance to meet SpongeBob in person — it’s a nautical adventure like no other! \nRunning daily from Thursday 18 December\, 2025 – Tuesday 27 January\, 2026. Check the website for more details.
URL:https://tothotornot.com/event/dive-into-an-underworld-adventure-with-spongebob-at-sea-life-melbourne-aquarium/
LOCATION:SEA LIFE Melbourne Aquarium\, King Street\, Melbourne\, Victoria\, 3000\, Australia
ATTACH;FMTTYPE=image/png:https://tothotornot.com/wp-content/uploads/2025/12/SLMA-SpongeBob-Underworld-Adventure.png
END:VEVENT
BEGIN:VEVENT
DTSTART;TZID=Australia/Melbourne:20250920T090000
DTEND;TZID=Australia/Melbourne:20260201T160000
DTSTAMP:20260421T054804
CREATED:20251006T025228Z
LAST-MODIFIED:20251201T010624Z
UID:10044847-1758358800-1769961600@tothotornot.com
SUMMARY:NEW! Rocky Shores at SEA LIFE Melbourne Aquarium
DESCRIPTION:The SEA LIFE Melbourne Aquarium is featuring its new Rocky Shores exhibit\, which immerses visitors in the vibrant tidal zone ecosystem. \nGuests can explore unique rockpool habitats and meet fascinating marine life\, such as sea stars\, decorator crabs\, hermit crabs\, and sea cucumbers\, while discovering their extraordinary survival skills. \nThe exhibit encourages hands-on interaction\, allowing visitors to feel and learn about the diverse creatures that thrive along the southern shores. \nRunning during aquarium opening hours.
URL:https://tothotornot.com/event/new-rocky-shores-at-sea-life-melbourne-aquarium/
LOCATION:SEA LIFE Melbourne Aquarium\, King Street\, Melbourne\, Victoria\, 3000\, Australia
CATEGORIES:Silver
ATTACH;FMTTYPE=image/png:https://tothotornot.com/wp-content/uploads/2025/09/Untitled-design-10.png
END:VEVENT
END:VCALENDAR