BEGIN:VCALENDAR
VERSION:2.0
PRODID:-//TOT: HOT OR NOT - ECPv6.15.20//NONSGML v1.0//EN
CALSCALE:GREGORIAN
METHOD:PUBLISH
X-ORIGINAL-URL:https://tothotornot.com
X-WR-CALDESC:Events for TOT: HOT OR NOT
REFRESH-INTERVAL;VALUE=DURATION:PT1H
X-Robots-Tag:noindex
X-PUBLISHED-TTL:PT1H
BEGIN:VTIMEZONE
TZID:Australia/Melbourne
BEGIN:STANDARD
TZOFFSETFROM:+1100
TZOFFSETTO:+1000
TZNAME:AEST
DTSTART:20250405T160000
END:STANDARD
BEGIN:DAYLIGHT
TZOFFSETFROM:+1000
TZOFFSETTO:+1100
TZNAME:AEDT
DTSTART:20251004T160000
END:DAYLIGHT
BEGIN:STANDARD
TZOFFSETFROM:+1100
TZOFFSETTO:+1000
TZNAME:AEST
DTSTART:20260404T160000
END:STANDARD
BEGIN:DAYLIGHT
TZOFFSETFROM:+1000
TZOFFSETTO:+1100
TZNAME:AEDT
DTSTART:20261003T160000
END:DAYLIGHT
BEGIN:STANDARD
TZOFFSETFROM:+1100
TZOFFSETTO:+1000
TZNAME:AEST
DTSTART:20270403T160000
END:STANDARD
BEGIN:DAYLIGHT
TZOFFSETFROM:+1000
TZOFFSETTO:+1100
TZNAME:AEDT
DTSTART:20271002T160000
END:DAYLIGHT
BEGIN:STANDARD
TZOFFSETFROM:+1100
TZOFFSETTO:+1000
TZNAME:AEST
DTSTART:20280401T160000
END:STANDARD
BEGIN:DAYLIGHT
TZOFFSETFROM:+1000
TZOFFSETTO:+1100
TZNAME:AEDT
DTSTART:20280930T160000
END:DAYLIGHT
END:VTIMEZONE
BEGIN:VEVENT
DTSTART;TZID=Australia/Melbourne:20260321T100000
DTEND;TZID=Australia/Melbourne:20270126T163000
DTSTAMP:20260420T053400
CREATED:20260304T012152Z
LAST-MODIFIED:20260304T234537Z
UID:10053196-1774087200-1800981000@tothotornot.com
SUMMARY:COLOUR: See the World in a New Light
DESCRIPTION:Colour: See the World in a New Light is a large-scale interactive science exhibition from Questacon\, exclusive to Scienceworks. \nWith 21 playful exhibits across four zones (Seeing Colour\, Coloured Light\, Changing Colour\, and Making Sense of Colour)\, families can explore colour\, illusion and perception through hands-on experiments. \nTry optical illusions\, play with light and materials\, and see how our brains interpret colour. Built by Museums Victoria\, Colour in Action adds an activity using projected light and acrylic insect components to explore live colour mixing and colour in nature. \nIf your kids love hands-on experiments\, this is one you’ll want to put on your Scienceworks list. \nEntry is $25 for adults\, $22 for seniors\, $10 for children\, $10 concession\, and $8 for members. \nRuns daily from Saturday 21 March to Tuesday 26 January 2027. Visit the website for more information. \n  \n 
URL:https://tothotornot.com/event/colour-see-the-world-in-a-new-light/
LOCATION:Scienceworks\, 2 Booker Street\, Spotswood\, Victoria\, 3015\, Australia
CATEGORIES:Gold
ATTACH;FMTTYPE=image/jpeg:https://tothotornot.com/wp-content/uploads/2026/03/Colour-See-the-World-in-a-New-Light-ScienceWorks.jpg
END:VEVENT
END:VCALENDAR