BEGIN:VCALENDAR
VERSION:2.0
PRODID:-//TOT: HOT OR NOT - ECPv6.15.20//NONSGML v1.0//EN
CALSCALE:GREGORIAN
METHOD:PUBLISH
X-WR-CALNAME:TOT: HOT OR NOT
X-ORIGINAL-URL:https://tothotornot.com
X-WR-CALDESC:Events for TOT: HOT OR NOT
REFRESH-INTERVAL;VALUE=DURATION:PT1H
X-Robots-Tag:noindex
X-PUBLISHED-TTL:PT1H
BEGIN:VTIMEZONE
TZID:Australia/Melbourne
BEGIN:STANDARD
TZOFFSETFROM:+1100
TZOFFSETTO:+1000
TZNAME:AEST
DTSTART:20250405T160000
END:STANDARD
BEGIN:DAYLIGHT
TZOFFSETFROM:+1000
TZOFFSETTO:+1100
TZNAME:AEDT
DTSTART:20251004T160000
END:DAYLIGHT
BEGIN:STANDARD
TZOFFSETFROM:+1100
TZOFFSETTO:+1000
TZNAME:AEST
DTSTART:20260404T160000
END:STANDARD
BEGIN:DAYLIGHT
TZOFFSETFROM:+1000
TZOFFSETTO:+1100
TZNAME:AEDT
DTSTART:20261003T160000
END:DAYLIGHT
BEGIN:STANDARD
TZOFFSETFROM:+1100
TZOFFSETTO:+1000
TZNAME:AEST
DTSTART:20270403T160000
END:STANDARD
BEGIN:DAYLIGHT
TZOFFSETFROM:+1000
TZOFFSETTO:+1100
TZNAME:AEDT
DTSTART:20271002T160000
END:DAYLIGHT
END:VTIMEZONE
BEGIN:VEVENT
DTSTART;TZID=Australia/Melbourne:20260404T150000
DTEND;TZID=Australia/Melbourne:20260404T170000
DTSTAMP:20260422T013445
CREATED:20260301T231713Z
LAST-MODIFIED:20260301T231713Z
UID:10053161-1775314800-1775322000@tothotornot.com
SUMMARY:K-Pop Icons
DESCRIPTION:Catch the K-POP ICONS on their WORLD TOUR! 🎤 \nThe UK’s first virtual K-Pop band is coming to a theatre near you — bringing a world-exclusive live concert experience celebrating Korea’s global music phenomenon. \n🔥 Packed with the biggest hits from Netflix’s smash-hit film K-POP DEMON HUNTERS\, the ICONS are joined on stage by world-class dancers for a high-energy\, family-friendly show like no other. \n🎶 Featuring songs from BLACKPINK\, ROSÉ\, BTS\, TWICE\, K/DA\, KATSEYE\, and Demon Hunters groups SAJA BOYS and HUNTR/X. \n💫 Sing. Dance. Vote. Pick your favourite ICON and help crown the ultimate fan favourite in this live\, interactive party for all ages — whether you’re a hardcore K-Pop fan\, brand new to the wave\, or just along for your tiny demon hunters! \n✨ The lights are up. The stage is set. Make the Honmoon Golden with the K-POP ICONS. \nK-POP ICONS® is an original digital K-Pop band and trademark of Red Ents Ltd. Performances may include cover versions of songs originally recorded and/or composed by third parties. K-POP ICONS is not affiliated with\, endorsed by\, or associated with any original artists\, record labels\, films\, or rights holders. All intellectual property remains the property of their respective owners.
URL:https://tothotornot.com/event/k-pop-icons/
LOCATION:Palais Theatre\, Lower Esplanade\, St Kilda\, Melbourne\, Victoria\, 3183\, Australia
ATTACH;FMTTYPE=image/jpeg:https://tothotornot.com/wp-content/uploads/2026/03/Kpop.jpg
ORGANIZER;CN="Palais Theatre":MAILTO:admin@palaistheatre.com.au
END:VEVENT
END:VCALENDAR