BEGIN:VCALENDAR
VERSION:2.0
PRODID:-//TOT: HOT OR NOT - ECPv6.15.20//NONSGML v1.0//EN
CALSCALE:GREGORIAN
METHOD:PUBLISH
X-ORIGINAL-URL:https://tothotornot.com
X-WR-CALDESC:Events for TOT: HOT OR NOT
REFRESH-INTERVAL;VALUE=DURATION:PT1H
X-Robots-Tag:noindex
X-PUBLISHED-TTL:PT1H
BEGIN:VTIMEZONE
TZID:Australia/Melbourne
BEGIN:STANDARD
TZOFFSETFROM:+1100
TZOFFSETTO:+1000
TZNAME:AEST
DTSTART:20250405T160000
END:STANDARD
BEGIN:DAYLIGHT
TZOFFSETFROM:+1000
TZOFFSETTO:+1100
TZNAME:AEDT
DTSTART:20251004T160000
END:DAYLIGHT
BEGIN:STANDARD
TZOFFSETFROM:+1100
TZOFFSETTO:+1000
TZNAME:AEST
DTSTART:20260404T160000
END:STANDARD
BEGIN:DAYLIGHT
TZOFFSETFROM:+1000
TZOFFSETTO:+1100
TZNAME:AEDT
DTSTART:20261003T160000
END:DAYLIGHT
BEGIN:STANDARD
TZOFFSETFROM:+1100
TZOFFSETTO:+1000
TZNAME:AEST
DTSTART:20270403T160000
END:STANDARD
BEGIN:DAYLIGHT
TZOFFSETFROM:+1000
TZOFFSETTO:+1100
TZNAME:AEDT
DTSTART:20271002T160000
END:DAYLIGHT
END:VTIMEZONE
BEGIN:VEVENT
DTSTART;TZID=Australia/Melbourne:20260416T100000
DTEND;TZID=Australia/Melbourne:20260416T150000
DTSTAMP:20260424T131852
CREATED:20260407T050152Z
LAST-MODIFIED:20260407T050152Z
UID:10057589-1776333600-1776351600@tothotornot.com
SUMMARY:NGV Creativity Club - Paper Worlds with Gracia & Louise Levels 4–6
DESCRIPTION:Join Melbourne-based artists Gracia Haby and Louise Jennison for an immersive gallery day at The Ian Potter Centre: NGV Australia\, Federation Square\, running from 10:00am to 3:00pm\, designed for high-ability learners. \nSpend the morning with NGV Educators analysing diverse representations of the Australian environment through focused sketching and drawing. \nIn the afternoon\, work with Gracia and Louise to create dynamic collaged environments inspired by flora and fauna\, exploring scale\, composition and imagery. Free entry.
URL:https://tothotornot.com/event/ngv-creativity-club-paper-worlds-with-gracia-louise-levels-4-6/
LOCATION:The Ian Potter Centre: NGV Australia\, Fed Square\, Melbourne\, Victoria\, 3000\, Australia
ATTACH;FMTTYPE=image/jpeg:https://tothotornot.com/wp-content/uploads/2026/04/NGV-Creativity-Club-Zine-Worlds-with-Gracia-Louise-1.jpg
END:VEVENT
BEGIN:VEVENT
DTSTART;TZID=Australia/Melbourne:20260415T140000
DTEND;TZID=Australia/Melbourne:20260416T160000
DTSTAMP:20260424T131852
CREATED:20260409T033933Z
LAST-MODIFIED:20260409T033933Z
UID:10057587-1776261600-1776355200@tothotornot.com
SUMMARY:NGV Teens: Sketchbook Sessions
DESCRIPTION:Sharpen your observational drawing skills with artist Swathi Madike in these free drop-by drawing sessions for teens aged 12 to 18\, held in the 19th Century Australian Art Collection galleries at The Ian Potter Centre: NGV Australia\, Federation Square. \nSessions run Wednesday 15 and Thursday 16 April from 2:00pm to 4:00pm. \nEnjoy drawing challenges inspired by artworks while practising contour\, shading and texture techniques. No prior art experience required and all materials are provided. Teens are free to drop in and out throughout the session.
URL:https://tothotornot.com/event/ngv-teens-sketchbook-sessions/
LOCATION:The Ian Potter Centre: NGV Australia\, Fed Square\, Melbourne\, Victoria\, 3000\, Australia
ATTACH;FMTTYPE=image/jpeg:https://tothotornot.com/wp-content/uploads/2026/04/NGV-Teens-Sketchbook-Sessions.jpg
END:VEVENT
BEGIN:VEVENT
DTSTART;TZID=Australia/Melbourne:20260413T100000
DTEND;TZID=Australia/Melbourne:20260414T150000
DTSTAMP:20260424T131852
CREATED:20260407T050315Z
LAST-MODIFIED:20260407T050315Z
UID:10057585-1776074400-1776178800@tothotornot.com
SUMMARY:NGV Creativity Club - Building Character Worlds Through Art with Katrina Nannestad
DESCRIPTION:Join award-winning author Katrina Nannestad for an immersive gallery writing experience at NGV International\, designed for curious\, high-ability learners. \nSpend the morning with NGV Educators in a creative writing workshop inspired by the NGV Collection\, experimenting with language\, literary devices and descriptive vocabulary. \nIn the afternoon\, work with Katrina to uncover character clues hidden within selected artworks and begin shaping vivid\, original stories. \nSessions run Monday 13 and Tuesday 14 April. Free entry.
URL:https://tothotornot.com/event/ngv-creativity-club-building-character-worlds-through-art-with-katrina-nannestad/
LOCATION:NGV INTERNATIONAL\, 180 St Kilda Roald\, Melbourne\, Victoria\, 3006\, Australia
ATTACH;FMTTYPE=image/jpeg:https://tothotornot.com/wp-content/uploads/2026/04/NGV-Creativity-Club-Building-Character-Worlds-Through-Art-with-Katrina-Nannestad.jpg
END:VEVENT
BEGIN:VEVENT
DTSTART;TZID=Australia/Melbourne:20260402T123000
DTEND;TZID=Australia/Melbourne:20260402T163000
DTSTAMP:20260424T131852
CREATED:20260330T063821Z
LAST-MODIFIED:20260330T063821Z
UID:10055471-1775133000-1775147400@tothotornot.com
SUMMARY:Easter Egg Drop-by Drawing
DESCRIPTION:Hop into NGV for a free drop-by Easter activity where kids can fill a basket with drawings of eggs\, inspired by patterns they’ve seen or designs of their own imagination. \nOnce finished\, show your drawing to the team and collect a chocolate prize. \nNo bookings required. Please note that allergens may be present in the chocolate – speak to staff for a full list of ingredients.
URL:https://tothotornot.com/event/easter-egg-drop-by-drawing/
LOCATION:NGV INTERNATIONAL\, 180 St Kilda Roald\, Melbourne\, Victoria\, 3006\, Australia
ATTACH;FMTTYPE=image/jpeg:https://tothotornot.com/wp-content/uploads/2026/03/Easter-Egg-Drop-by-Drawing.jpg
END:VEVENT
BEGIN:VEVENT
DTSTART;TZID=Australia/Melbourne:20260222T100000
DTEND;TZID=Australia/Melbourne:20260222T170000
DTSTAMP:20260424T131852
CREATED:20260119T072614Z
LAST-MODIFIED:20260119T072614Z
UID:10049116-1771754400-1771779600@tothotornot.com
SUMMARY:NGV International Lunar New Year 2026
DESCRIPTION:Celebrate the Year of the Horse at the National Gallery of Victoria with a whole day of festivities\, food\, and fun. \nEnjoy paper-folding and creative drawing activities\, captivating instrumental and Beijing opera performances\, and relaxing games of mahjong. \nTake a guided tour of the NGV Collection to experience art across the ages. \nBring your family and friends for a wonderful day out at the NGV celebrating the New Year!
URL:https://tothotornot.com/event/ngv-international-lunar-new-year-2026/
LOCATION:NGV INTERNATIONAL\, 180 St Kilda Roald\, Melbourne\, Victoria\, 3006\, Australia
ATTACH;FMTTYPE=image/jpeg:https://tothotornot.com/wp-content/uploads/2026/01/Dragon-Dance-NGV.jpg
END:VEVENT
END:VCALENDAR