BEGIN:VCALENDAR
VERSION:2.0
PRODID:-//TOT: HOT OR NOT - ECPv6.15.20//NONSGML v1.0//EN
CALSCALE:GREGORIAN
METHOD:PUBLISH
X-WR-CALNAME:TOT: HOT OR NOT
X-ORIGINAL-URL:https://tothotornot.com
X-WR-CALDESC:Events for TOT: HOT OR NOT
REFRESH-INTERVAL;VALUE=DURATION:PT1H
X-Robots-Tag:noindex
X-PUBLISHED-TTL:PT1H
BEGIN:VTIMEZONE
TZID:Australia/Melbourne
BEGIN:STANDARD
TZOFFSETFROM:+1100
TZOFFSETTO:+1000
TZNAME:AEST
DTSTART:20250405T160000
END:STANDARD
BEGIN:DAYLIGHT
TZOFFSETFROM:+1000
TZOFFSETTO:+1100
TZNAME:AEDT
DTSTART:20251004T160000
END:DAYLIGHT
BEGIN:STANDARD
TZOFFSETFROM:+1100
TZOFFSETTO:+1000
TZNAME:AEST
DTSTART:20260404T160000
END:STANDARD
BEGIN:DAYLIGHT
TZOFFSETFROM:+1000
TZOFFSETTO:+1100
TZNAME:AEDT
DTSTART:20261003T160000
END:DAYLIGHT
BEGIN:STANDARD
TZOFFSETFROM:+1100
TZOFFSETTO:+1000
TZNAME:AEST
DTSTART:20270403T160000
END:STANDARD
BEGIN:DAYLIGHT
TZOFFSETFROM:+1000
TZOFFSETTO:+1100
TZNAME:AEDT
DTSTART:20271002T160000
END:DAYLIGHT
END:VTIMEZONE
BEGIN:VEVENT
DTSTART;TZID=Australia/Melbourne:20260417T120000
DTEND;TZID=Australia/Melbourne:20260417T141500
DTSTAMP:20260422T012943
CREATED:20260210T000954Z
LAST-MODIFIED:20260210T000954Z
UID:10049207-1776427200-1776435300@tothotornot.com
SUMMARY:MIFF Autumn Film Series - The Bad Guys 2
DESCRIPTION:Catch the best of the Melbourne International Film Festival at Bunjil Place this autumn with the MIFF Autumn Film Series. \nThe felonious critters are back in Bad Guys 2 (rated PG)\, where the beastly heist team accepts one last job to ruin evil billionaire Mr. Moon’s wedding and steal his MoonX rocket mid-launch. \nFeaturing the all-star voice cast including Sam Rockwell\, Marc Maron\, Awkwafina\, and new additions Danielle Brooks\, Maria Bakalova\, and Natasha Lyonne\, this sequel takes its explosive action cues from Fast & Furious and Mission: Impossible. \nParental guidance is recommended.
URL:https://tothotornot.com/event/miff-autumn-film-series-the-bad-guys-2/
LOCATION:Bunjil Place Studio\, 2 Patrick Northeast Drive\, Narre Warren\, Victoria\, 3805\, Australia
ATTACH;FMTTYPE=image/jpeg:https://tothotornot.com/wp-content/uploads/2026/02/MIFF-Autumn-Film-Series-The-Bad-Guys-2.jpg
END:VEVENT
END:VCALENDAR