BEGIN:VCALENDAR
VERSION:2.0
PRODID:-//TOT: HOT OR NOT - ECPv6.15.20//NONSGML v1.0//EN
CALSCALE:GREGORIAN
METHOD:PUBLISH
X-WR-CALNAME:TOT: HOT OR NOT
X-ORIGINAL-URL:https://tothotornot.com
X-WR-CALDESC:Events for TOT: HOT OR NOT
REFRESH-INTERVAL;VALUE=DURATION:PT1H
X-Robots-Tag:noindex
X-PUBLISHED-TTL:PT1H
BEGIN:VTIMEZONE
TZID:Australia/Melbourne
BEGIN:STANDARD
TZOFFSETFROM:+1100
TZOFFSETTO:+1000
TZNAME:AEST
DTSTART:20250405T160000
END:STANDARD
BEGIN:DAYLIGHT
TZOFFSETFROM:+1000
TZOFFSETTO:+1100
TZNAME:AEDT
DTSTART:20251004T160000
END:DAYLIGHT
BEGIN:STANDARD
TZOFFSETFROM:+1100
TZOFFSETTO:+1000
TZNAME:AEST
DTSTART:20260404T160000
END:STANDARD
BEGIN:DAYLIGHT
TZOFFSETFROM:+1000
TZOFFSETTO:+1100
TZNAME:AEDT
DTSTART:20261003T160000
END:DAYLIGHT
BEGIN:STANDARD
TZOFFSETFROM:+1100
TZOFFSETTO:+1000
TZNAME:AEST
DTSTART:20270403T160000
END:STANDARD
BEGIN:DAYLIGHT
TZOFFSETFROM:+1000
TZOFFSETTO:+1100
TZNAME:AEDT
DTSTART:20271002T160000
END:DAYLIGHT
END:VTIMEZONE
BEGIN:VEVENT
DTSTART;TZID=Australia/Melbourne:20260328T140000
DTEND;TZID=Australia/Melbourne:20260328T160000
DTSTAMP:20260425T063333
CREATED:20260323T041853Z
LAST-MODIFIED:20260323T041853Z
UID:10055020-1774706400-1774713600@tothotornot.com
SUMMARY:Lanson Place Parliament Gardens Celebrates MIFGS
DESCRIPTION:To celebrate the Melbourne International Flower and Garden Show\, Lanson Place Parliament Gardens will be hosting two special events to mark the occasion. \nThe first is a Floral High Tea at Lanson Place’s own Chronicle 502 Bar & Dining on Saturday 28th March\, from 2-4pm\, for an afternoon of sweets\, savoury\, and sips inspired by the season in bloom. Enjoy a refined selection of sweet and savoury creations\, from delicate pastries adorned with edible flowers to vibrant savoury bites and warm scones with seasonal preserves. Served with T2 teas or barista-made ST.ALi coffee — and the option to add sparkling — it’s a graceful way to gather and savour the moment. \nSpots can be booked via Eventbrite. \nDate: Saturday\, 28th March\nTime: 2:00pm – 4:00pm \nAn exclusive floral workshop In collaboration with Flowers Vassette will be available and complimentary to in-house guests. The workshop will be on Saturday 28th March\, from 9:00am to 10:00am. Make a personalised wearable buttonhole and receive a complimentary Vasette toolbelt\, a practical and stylish keepsake\, perfect for gardening enthusiasts. \nThe workshop will be complimentary to in house guests and can be booked via reception. \nDate: Saturday\, 28th March\nTime: 9:00am – 10:00am \nTurn your day among the blooms into a full city escape at Lanson Place Parliament Gardens with just a minutes walk for easy access to the Melbourne International Flower and Garden Show.
URL:https://tothotornot.com/event/lanson-place-parliament-gardens-celebrates-mifgs/2026-03-28/2/
LOCATION:Lanson Place Parliament Gardens\, 502 Albert St\, East Melbourne\, 3002\, Australia
ATTACH;FMTTYPE=image/png:https://tothotornot.com/wp-content/uploads/2026/03/Screen-Shot-2026-03-16-at-1.33.59-pm.png
ORGANIZER;CN="Lanson Place":MAILTO:reservations.lpmb@lansonplace.com
END:VEVENT
END:VCALENDAR