BEGIN:VCALENDAR
VERSION:2.0
PRODID:-//TOT: HOT OR NOT - ECPv6.15.20//NONSGML v1.0//EN
CALSCALE:GREGORIAN
METHOD:PUBLISH
X-WR-CALNAME:TOT: HOT OR NOT
X-ORIGINAL-URL:https://tothotornot.com
X-WR-CALDESC:Events for TOT: HOT OR NOT
REFRESH-INTERVAL;VALUE=DURATION:PT1H
X-Robots-Tag:noindex
X-PUBLISHED-TTL:PT1H
BEGIN:VTIMEZONE
TZID:Australia/Melbourne
BEGIN:STANDARD
TZOFFSETFROM:+1100
TZOFFSETTO:+1000
TZNAME:AEST
DTSTART:20240406T160000
END:STANDARD
BEGIN:DAYLIGHT
TZOFFSETFROM:+1000
TZOFFSETTO:+1100
TZNAME:AEDT
DTSTART:20241005T160000
END:DAYLIGHT
BEGIN:STANDARD
TZOFFSETFROM:+1100
TZOFFSETTO:+1000
TZNAME:AEST
DTSTART:20250405T160000
END:STANDARD
BEGIN:DAYLIGHT
TZOFFSETFROM:+1000
TZOFFSETTO:+1100
TZNAME:AEDT
DTSTART:20251004T160000
END:DAYLIGHT
BEGIN:STANDARD
TZOFFSETFROM:+1100
TZOFFSETTO:+1000
TZNAME:AEST
DTSTART:20260404T160000
END:STANDARD
BEGIN:DAYLIGHT
TZOFFSETFROM:+1000
TZOFFSETTO:+1100
TZNAME:AEDT
DTSTART:20261003T160000
END:DAYLIGHT
BEGIN:STANDARD
TZOFFSETFROM:+1100
TZOFFSETTO:+1000
TZNAME:AEST
DTSTART:20270403T160000
END:STANDARD
BEGIN:DAYLIGHT
TZOFFSETFROM:+1000
TZOFFSETTO:+1100
TZNAME:AEDT
DTSTART:20271002T160000
END:DAYLIGHT
END:VTIMEZONE
BEGIN:VEVENT
DTSTART;TZID=Australia/Melbourne:20251219T080000
DTEND;TZID=Australia/Melbourne:20260131T170000
DTSTAMP:20260421T123613
CREATED:20251208T001356Z
LAST-MODIFIED:20251208T001620Z
UID:10047448-1766131200-1769878800@tothotornot.com
SUMMARY:Summer Holidays at Grazeland
DESCRIPTION:Grazeland is turning up the festive cheer and inviting Melburnians to eat\, play\, and celebrate their way through Christmas festivities\, a spectacular New Year’s Eve celebration\, and vibrant summer experiences for all ages. With over 50 food vendors on deck\, grills will be fired up and coolers chilled\, ready to serve some warm-weather favourites and a whole lot of fun! \nFriday\, 19 December – Paskong Pinoy sa Grazeland will bring the warmth and colour of Filipino Christmas to Grazeland with authentic food\, festive live music\, a Parol (Filipino Christmas Star) competition\, and vibrant cultural performances including traditional Christmas ballroom dancing. \nSaturday\, 20 December – Geed Up return to Grazeland with their high-energy mix of comedy\, hip-hop\, break dancing\, acrobatics\, and crowd-pleasing hits\, alongside roaming festive characters including a Snowman and Santa Sax. \nSunday\, 21 December – The weekend closes with live bands\, DJs\, Top 40 hits\, soulful R&B from the Un-Limited Trio\, a headline set by soul vocalist Emerson Alexander\, and roaming festive characters including Santa Sax. \nNYE at Grazeland – Ring in the New Year at Grazeland with a night of delicious food\, live entertainment\, family-friendly activities\, and spectacular views of the fireworks. \nSummer Family Fun – Families visiting Grazeland this summer can enjoy the Jungle Hangout\, a thoughtfully designed interactive kids’ zone featuring Funky Monkey Bars\, Giant Jenga\, and Connect 4\, perfect for keeping children of all ages entertained while parents relax. \nLocated in Spotswood\, Grazeland is the ultimate summer destination\, offering one of Melbourne’s most diverse food lineups and a welcoming atmosphere for couples\, families and groups of all ages and sizes. \nFor more information about specific dates and times\, visit the website.
URL:https://tothotornot.com/event/summer-holidays-at-grazeland/
LOCATION:Grazeland\, 20 Booker St\, Spotswood VIC\, 3015\, Grazeland\, 20 Booker St\, Spotswood VIC\, 3015\, Melbourne\, 3015\, Australia
ATTACH;FMTTYPE=image/jpeg:https://tothotornot.com/wp-content/uploads/2025/12/Image-1-Christmas-Carolers-scaled.jpg
ORGANIZER;CN="Grazeland":MAILTO:contact@grazeland.melbourne
END:VEVENT
END:VCALENDAR