BEGIN:VCALENDAR
VERSION:2.0
PRODID:-//TOT: HOT OR NOT - ECPv6.15.20//NONSGML v1.0//EN
CALSCALE:GREGORIAN
METHOD:PUBLISH
X-WR-CALNAME:TOT: HOT OR NOT
X-ORIGINAL-URL:https://tothotornot.com
X-WR-CALDESC:Events for TOT: HOT OR NOT
REFRESH-INTERVAL;VALUE=DURATION:PT1H
X-Robots-Tag:noindex
X-PUBLISHED-TTL:PT1H
BEGIN:VTIMEZONE
TZID:Australia/Melbourne
BEGIN:STANDARD
TZOFFSETFROM:+1100
TZOFFSETTO:+1000
TZNAME:AEST
DTSTART:20250405T160000
END:STANDARD
BEGIN:DAYLIGHT
TZOFFSETFROM:+1000
TZOFFSETTO:+1100
TZNAME:AEDT
DTSTART:20251004T160000
END:DAYLIGHT
BEGIN:STANDARD
TZOFFSETFROM:+1100
TZOFFSETTO:+1000
TZNAME:AEST
DTSTART:20260404T160000
END:STANDARD
BEGIN:DAYLIGHT
TZOFFSETFROM:+1000
TZOFFSETTO:+1100
TZNAME:AEDT
DTSTART:20261003T160000
END:DAYLIGHT
BEGIN:STANDARD
TZOFFSETFROM:+1100
TZOFFSETTO:+1000
TZNAME:AEST
DTSTART:20270403T160000
END:STANDARD
BEGIN:DAYLIGHT
TZOFFSETFROM:+1000
TZOFFSETTO:+1100
TZNAME:AEDT
DTSTART:20271002T160000
END:DAYLIGHT
END:VTIMEZONE
BEGIN:VEVENT
DTSTART;TZID=Australia/Melbourne:20260412T160000
DTEND;TZID=Australia/Melbourne:20260412T170000
DTSTAMP:20260422T032157
CREATED:20260330T065949Z
LAST-MODIFIED:20260330T065949Z
UID:10055503-1776009600-1776013200@tothotornot.com
SUMMARY:Piip & Tuut at Concert
DESCRIPTION:Internationally acclaimed Estonian clown duo Piip and Tuut premiere in Melbourne at Melbourne International Comedy Festival with a joyful\, high-energy show perfect for all ages\, Piip and Tuut at Concert. Playing at ACMI\, Gandel Lab in Federation Square\, this limited season is running from 3 – 12 April 2026. \nDirect from Estonia\, Piip and Tuut are adored icons in their home country and celebrated across Europe\, North America\, the Middle East and Asia known for their mischievous\, chaotic and fast-paced comedy including acrobatics\, slapstick humour\,\nlive music and audience interaction. \nPiip and Tuut bring a rare style of visual comedy that transcends language and generations making Piip and Tuut at Concert a must-see for families\, theatre lovers and audiences looking for something truly international. \nThe Piip and Tuut Theatre duo is formed by actors Haide Männamäe and Toomas Tross who are cultural treasures in Estonia with more than two decades of performing\, spanning stage productions and television series\, making the show an exciting new discovery for Australian audiences. \nRunning from Friday 3 April – Sunday 12 April (excluding Monday 6 April).
URL:https://tothotornot.com/event/piip-tuut-at-concert/2026-04-12/
LOCATION:ACMI\, Flinders Street Federation Square\, Melbourne\, Victoria\, 3000\, Australia
ATTACH;FMTTYPE=image/jpeg:https://tothotornot.com/wp-content/uploads/2026/03/Piip-and-Tuut-at-Concert-Image-1-scaled.jpg
ORGANIZER;CN="Good Humans PR":MAILTO:lilli@goodhumanspr.com
END:VEVENT
END:VCALENDAR