BEGIN:VCALENDAR
VERSION:2.0
PRODID:-//TOT: HOT OR NOT - ECPv6.15.20//NONSGML v1.0//EN
CALSCALE:GREGORIAN
METHOD:PUBLISH
X-ORIGINAL-URL:https://tothotornot.com
X-WR-CALDESC:Events for TOT: HOT OR NOT
REFRESH-INTERVAL;VALUE=DURATION:PT1H
X-Robots-Tag:noindex
X-PUBLISHED-TTL:PT1H
BEGIN:VTIMEZONE
TZID:Australia/Melbourne
BEGIN:STANDARD
TZOFFSETFROM:+1100
TZOFFSETTO:+1000
TZNAME:AEST
DTSTART:20250405T160000
END:STANDARD
BEGIN:DAYLIGHT
TZOFFSETFROM:+1000
TZOFFSETTO:+1100
TZNAME:AEDT
DTSTART:20251004T160000
END:DAYLIGHT
BEGIN:STANDARD
TZOFFSETFROM:+1100
TZOFFSETTO:+1000
TZNAME:AEST
DTSTART:20260404T160000
END:STANDARD
BEGIN:DAYLIGHT
TZOFFSETFROM:+1000
TZOFFSETTO:+1100
TZNAME:AEDT
DTSTART:20261003T160000
END:DAYLIGHT
BEGIN:STANDARD
TZOFFSETFROM:+1100
TZOFFSETTO:+1000
TZNAME:AEST
DTSTART:20270403T160000
END:STANDARD
BEGIN:DAYLIGHT
TZOFFSETFROM:+1000
TZOFFSETTO:+1100
TZNAME:AEDT
DTSTART:20271002T160000
END:DAYLIGHT
END:VTIMEZONE
BEGIN:VEVENT
DTSTART;TZID=Australia/Melbourne:20260606T170000
DTEND;TZID=Australia/Melbourne:20260606T210000
DTSTAMP:20260424T071954
CREATED:20260209T235037Z
LAST-MODIFIED:20260209T235037Z
UID:10049585-1780765200-1780779600@tothotornot.com
SUMMARY:Seasons In The Glade
DESCRIPTION:Seasons in the Glade is Gasworks’ new quarterly celebration of creativity\, connection\, and community. \nOn the first Saturday of Spring\, Summer\, Autumn\, and Winter\, the precinct transforms into a festival of seasonally specific experiences with live music\, light shows\, art and craft markets\, food trucks\, kids’ workshops\, interactive exhibitions\, and open artist studios. \nBring friends\, family\, and picnic rugs to celebrate from 5pm to 9pm. \nCatch Autumn in the Glade on Saturday 14 March\, Winter in the Glade on Saturday 6 June\, Spring in the Glade on Saturday 5 September\, and Summer in the Glade on Saturday 5 December.
URL:https://tothotornot.com/event/seasons-in-the-glade/2026-06-06/
LOCATION:Gasworks Glade\, 21 Graham Street\, Albert Park\, Victoria\, 3206\, Australia
ATTACH;FMTTYPE=image/jpeg:https://tothotornot.com/wp-content/uploads/2026/02/Seasons-In-The-Glade.jpg
END:VEVENT
END:VCALENDAR