BEGIN:VCALENDAR
VERSION:2.0
PRODID:-//TOT: HOT OR NOT - ECPv6.15.20//NONSGML v1.0//EN
CALSCALE:GREGORIAN
METHOD:PUBLISH
X-WR-CALNAME:TOT: HOT OR NOT
X-ORIGINAL-URL:https://tothotornot.com
X-WR-CALDESC:Events for TOT: HOT OR NOT
REFRESH-INTERVAL;VALUE=DURATION:PT1H
X-Robots-Tag:noindex
X-PUBLISHED-TTL:PT1H
BEGIN:VTIMEZONE
TZID:Australia/Melbourne
BEGIN:STANDARD
TZOFFSETFROM:+1100
TZOFFSETTO:+1000
TZNAME:AEST
DTSTART:20250405T160000
END:STANDARD
BEGIN:DAYLIGHT
TZOFFSETFROM:+1000
TZOFFSETTO:+1100
TZNAME:AEDT
DTSTART:20251004T160000
END:DAYLIGHT
BEGIN:STANDARD
TZOFFSETFROM:+1100
TZOFFSETTO:+1000
TZNAME:AEST
DTSTART:20260404T160000
END:STANDARD
BEGIN:DAYLIGHT
TZOFFSETFROM:+1000
TZOFFSETTO:+1100
TZNAME:AEDT
DTSTART:20261003T160000
END:DAYLIGHT
BEGIN:STANDARD
TZOFFSETFROM:+1100
TZOFFSETTO:+1000
TZNAME:AEST
DTSTART:20270403T160000
END:STANDARD
BEGIN:DAYLIGHT
TZOFFSETFROM:+1000
TZOFFSETTO:+1100
TZNAME:AEDT
DTSTART:20271002T160000
END:DAYLIGHT
END:VTIMEZONE
BEGIN:VEVENT
DTSTART;TZID=Australia/Melbourne:20260531T120000
DTEND;TZID=Australia/Melbourne:20260531T130000
DTSTAMP:20260424T115622
CREATED:20260420T002844Z
LAST-MODIFIED:20260420T002844Z
UID:10058046-1780228800-1780232400@tothotornot.com
SUMMARY:RISING: Land of 1000 Dances
DESCRIPTION:RISING’s dance academy at the historic Flinders Street Ballroom brings together styles from Bollywood to ballet\, jazz to K-pop. Led by Victorian dance legends and champions\, these classes welcome all ages and abilities across Melbourne. \n\nSun 31 May\, 12pm – K-Pop (Tweens) with O2 Dance Studios\nSun 31 May\, 12.30pm – K-Pop (Tweens) with O2 Dance Studios\nSat 6 June\, 12pm – Kids Contemporary Dance with Nook\nSat 6 June\, 3pm – Kids Ballet with Nook\n\nTickets on sale 12pm April 15\, for ages 13+. \nFor more courses\, please visit the official website.
URL:https://tothotornot.com/event/rising-land-of-1000-dances/2026-05-31/1/
LOCATION:Flinders Street Station\, 273 Flinders St\, Melbourne\, Victoria\, 3000\, Australia
ATTACH;FMTTYPE=image/jpeg:https://tothotornot.com/wp-content/uploads/2026/04/R26_1000Dances_Hero-2.jpg
END:VEVENT
BEGIN:VEVENT
DTSTART;TZID=Australia/Melbourne:20260531T123000
DTEND;TZID=Australia/Melbourne:20260531T133000
DTSTAMP:20260424T115622
CREATED:20260420T002844Z
LAST-MODIFIED:20260420T002844Z
UID:10058047-1780230600-1780234200@tothotornot.com
SUMMARY:RISING: Land of 1000 Dances
DESCRIPTION:RISING’s dance academy at the historic Flinders Street Ballroom brings together styles from Bollywood to ballet\, jazz to K-pop. Led by Victorian dance legends and champions\, these classes welcome all ages and abilities across Melbourne. \n\nSun 31 May\, 12pm – K-Pop (Tweens) with O2 Dance Studios\nSun 31 May\, 12.30pm – K-Pop (Tweens) with O2 Dance Studios\nSat 6 June\, 12pm – Kids Contemporary Dance with Nook\nSat 6 June\, 3pm – Kids Ballet with Nook\n\nTickets on sale 12pm April 15\, for ages 13+. \nFor more courses\, please visit the official website.
URL:https://tothotornot.com/event/rising-land-of-1000-dances/2026-05-31/2/
LOCATION:Flinders Street Station\, 273 Flinders St\, Melbourne\, Victoria\, 3000\, Australia
ATTACH;FMTTYPE=image/jpeg:https://tothotornot.com/wp-content/uploads/2026/04/R26_1000Dances_Hero-2.jpg
END:VEVENT
BEGIN:VEVENT
DTSTART;TZID=Australia/Melbourne:20260606T120000
DTEND;TZID=Australia/Melbourne:20260606T130000
DTSTAMP:20260424T115622
CREATED:20260420T002844Z
LAST-MODIFIED:20260420T002844Z
UID:10058048-1780747200-1780750800@tothotornot.com
SUMMARY:RISING: Land of 1000 Dances
DESCRIPTION:RISING’s dance academy at the historic Flinders Street Ballroom brings together styles from Bollywood to ballet\, jazz to K-pop. Led by Victorian dance legends and champions\, these classes welcome all ages and abilities across Melbourne. \n\nSun 31 May\, 12pm – K-Pop (Tweens) with O2 Dance Studios\nSun 31 May\, 12.30pm – K-Pop (Tweens) with O2 Dance Studios\nSat 6 June\, 12pm – Kids Contemporary Dance with Nook\nSat 6 June\, 3pm – Kids Ballet with Nook\n\nTickets on sale 12pm April 15\, for ages 13+. \nFor more courses\, please visit the official website.
URL:https://tothotornot.com/event/rising-land-of-1000-dances/2026-06-06/1/
LOCATION:Flinders Street Station\, 273 Flinders St\, Melbourne\, Victoria\, 3000\, Australia
ATTACH;FMTTYPE=image/jpeg:https://tothotornot.com/wp-content/uploads/2026/04/R26_1000Dances_Hero-2.jpg
END:VEVENT
BEGIN:VEVENT
DTSTART;TZID=Australia/Melbourne:20260606T150000
DTEND;TZID=Australia/Melbourne:20260606T160000
DTSTAMP:20260424T115622
CREATED:20260420T002844Z
LAST-MODIFIED:20260420T002844Z
UID:10058049-1780758000-1780761600@tothotornot.com
SUMMARY:RISING: Land of 1000 Dances
DESCRIPTION:RISING’s dance academy at the historic Flinders Street Ballroom brings together styles from Bollywood to ballet\, jazz to K-pop. Led by Victorian dance legends and champions\, these classes welcome all ages and abilities across Melbourne. \n\nSun 31 May\, 12pm – K-Pop (Tweens) with O2 Dance Studios\nSun 31 May\, 12.30pm – K-Pop (Tweens) with O2 Dance Studios\nSat 6 June\, 12pm – Kids Contemporary Dance with Nook\nSat 6 June\, 3pm – Kids Ballet with Nook\n\nTickets on sale 12pm April 15\, for ages 13+. \nFor more courses\, please visit the official website.
URL:https://tothotornot.com/event/rising-land-of-1000-dances/2026-06-06/2/
LOCATION:Flinders Street Station\, 273 Flinders St\, Melbourne\, Victoria\, 3000\, Australia
ATTACH;FMTTYPE=image/jpeg:https://tothotornot.com/wp-content/uploads/2026/04/R26_1000Dances_Hero-2.jpg
END:VEVENT
END:VCALENDAR